BEGIN:VCALENDAR
VERSION:2.0
PRODID:-//demosphere.net//NONSGML kigkonsult.se iCalcreator 2.22.1//
METHOD:REQUEST
X-WR-TIMEZONE:Europe/Paris
BEGIN:VEVENT
UID:https://pyrenees.demosphere.net/rv/47816
DTSTAMP:20260429T153000Z
DESCRIPTION:plus d'infos sur : https://pyrenees.demosphere.net/rv/47816
DTSTART:20260429T153000Z
DTEND:20260429T163000Z
GEO:+43.108642;+0.726912
LOCATION:St-Gaudens\, \nSous-préfecture \nPlace du maréchal Juin \n31800 Sa
 int-Gaudens
SUMMARY:Solidarité avec les peuples du Moyen-Orient : Cessez le feu !
URL:https://pyrenees.demosphere.net/rv/47816
END:VEVENT
END:VCALENDAR
