BEGIN:VCALENDAR
VERSION:2.0
PRODID:-//demosphere.net//NONSGML kigkonsult.se iCalcreator 2.22.1//
METHOD:REQUEST
X-WR-TIMEZONE:Europe/Paris
BEGIN:VEVENT
UID:https://pyrenees.demosphere.net/rv/47806
DTSTAMP:20260502T190000Z
DESCRIPTION:plus d'infos sur : https://pyrenees.demosphere.net/rv/47806
DTSTART:20260502T190000Z
DTEND:20260502T200000Z
GEO:+43.050018;+0.742517
LOCATION:Encausse-les-Thermes\, \nCafé Le pot aux roses \n30 rue de la font
 aine \n31160 Encausse-les-Thermes
SUMMARY:Concert de Benjamin Bobenrieth (trio - jazz manouche)
URL:https://pyrenees.demosphere.net/rv/47806
END:VEVENT
END:VCALENDAR
