BEGIN:VCALENDAR
VERSION:2.0
PRODID:-//demosphere.net//NONSGML kigkonsult.se iCalcreator 2.22.1//
METHOD:REQUEST
X-WR-TIMEZONE:Europe/Paris
BEGIN:VEVENT
UID:https://pyrenees.demosphere.net/rv/47801
DTSTAMP:20260523T140000Z
DESCRIPTION:plus d'infos sur : https://pyrenees.demosphere.net/rv/47801
DTSTART:20260523T140000Z
DTEND:20260523T150000Z
GEO:+43.215456;+0.878662
LOCATION:Aurignac\, \nMusée Forum de l'Aurignacien \nAvenue de Benabarre \n
 31420 Aurignac
SUMMARY:Atelier : Les métiers de l’archéologie\, l’archéozoologie
URL:https://pyrenees.demosphere.net/rv/47801
END:VEVENT
END:VCALENDAR
