BEGIN:VCALENDAR
VERSION:2.0
PRODID:-//demosphere.net//NONSGML kigkonsult.se iCalcreator 2.22.1//
METHOD:REQUEST
X-WR-TIMEZONE:Europe/Paris
BEGIN:VEVENT
UID:https://pyrenees.demosphere.net/rv/47800
DTSTAMP:20260523T123000Z
DESCRIPTION:plus d'infos sur : https://pyrenees.demosphere.net/rv/47800
DTSTART:20260523T123000Z
DTEND:20260523T133000Z
GEO:+43.215456;+0.878662
LOCATION:Aurignac\, \nMusée Forum de l'Aurignacien \nAvenue de Benabarre \n
 31420 Aurignac
SUMMARY:Visite spéciale : La faune\, la flore et les paysages de la Préhist
 oire
URL:https://pyrenees.demosphere.net/rv/47800
END:VEVENT
END:VCALENDAR
