BEGIN:VCALENDAR
VERSION:2.0
PRODID:-//demosphere.net//NONSGML kigkonsult.se iCalcreator 2.22.1//
METHOD:REQUEST
X-WR-TIMEZONE:Europe/Paris
BEGIN:VEVENT
UID:https://pyrenees.demosphere.net/rv/47794
DTSTAMP:20260428T180000Z
DESCRIPTION:plus d'infos sur : https://pyrenees.demosphere.net/rv/47794
DTSTART:20260428T180000Z
DTEND:20260428T190000Z
GEO:+43.094949;+0.282507
LOCATION:Benqué-Molère\, \nSalle des mariages \n65130 Benqué-Molère
SUMMARY:Cours gratuit de philosophie - La politique a -t-elle pour but le b
 onheur des citoyens
URL:https://pyrenees.demosphere.net/rv/47794
END:VEVENT
END:VCALENDAR
