BEGIN:VCALENDAR
VERSION:2.0
PRODID:-//demosphere.net//NONSGML kigkonsult.se iCalcreator 2.22.1//
METHOD:REQUEST
X-WR-TIMEZONE:Europe/Paris
BEGIN:VEVENT
UID:https://pyrenees.demosphere.net/rv/47792
DTSTAMP:20260425T183000Z
DESCRIPTION:plus d'infos sur : https://pyrenees.demosphere.net/rv/47792
DTSTART:20260425T183000Z
DTEND:20260425T193000Z
GEO:+43.196045;+0.678399
LOCATION:Cardeilhac\, \nAtelier du Clocheton \n63 Goûte de Blanque \n31350 
 Cardeilhac
SUMMARY:Bal néo-trad avec LES TABAYOTS
URL:https://pyrenees.demosphere.net/rv/47792
END:VEVENT
END:VCALENDAR
