BEGIN:VCALENDAR
VERSION:2.0
PRODID:-//demosphere.net//NONSGML kigkonsult.se iCalcreator 2.22.1//
METHOD:REQUEST
X-WR-TIMEZONE:Europe/Paris
BEGIN:VEVENT
UID:https://pyrenees.demosphere.net/rv/47781
DTSTAMP:20260530T170000Z
DESCRIPTION:plus d'infos sur : https://pyrenees.demosphere.net/rv/47781
DTSTART:20260530T170000Z
DTEND:20260530T180000Z
GEO:+43.106399;+0.721206
LOCATION:St-Gaudens\, \nSquare Azémar \n31800 Saint-Gaudens
SUMMARY:[Danse] R·ONDE·S - Compagnie Dernière minute
URL:https://pyrenees.demosphere.net/rv/47781
END:VEVENT
END:VCALENDAR
