BEGIN:VCALENDAR
VERSION:2.0
PRODID:-//demosphere.net//NONSGML kigkonsult.se iCalcreator 2.22.1//
METHOD:REQUEST
X-WR-TIMEZONE:Europe/Paris
BEGIN:VEVENT
UID:https://pyrenees.demosphere.net/rv/47780
DTSTAMP:20260517T160000Z
DESCRIPTION:plus d'infos sur : https://pyrenees.demosphere.net/rv/47780
DTSTART:20260517T160000Z
DTEND:20260517T170000Z
GEO:+43.294811;+1.22576
LOCATION:Carbonne\, \n31390 Carbonne
SUMMARY:Pronomade(s)/ Mathieu Ma Fille Foundation - Aimons-nous vivants (ci
 rque et théâtre)
URL:https://pyrenees.demosphere.net/rv/47780
END:VEVENT
END:VCALENDAR
