BEGIN:VCALENDAR
VERSION:2.0
PRODID:-//demosphere.net//NONSGML kigkonsult.se iCalcreator 2.22.1//
METHOD:REQUEST
X-WR-TIMEZONE:Europe/Paris
BEGIN:VEVENT
UID:https://pyrenees.demosphere.net/rv/47777
DTSTAMP:20260509T190000Z
DESCRIPTION:plus d'infos sur : https://pyrenees.demosphere.net/rv/47777
DTSTART:20260509T190000Z
DTEND:20260509T200000Z
GEO:+42.912767;+0.658353
LOCATION:Marignac\, \nPlace Jeanne Soulé\, à côté de la salle des fêtes \n3
 1440 Marignac
SUMMARY:Pronomade(s)/ Le Doux Supplice - En attendant le grand soir (cirque
  et danse)
URL:https://pyrenees.demosphere.net/rv/47777
END:VEVENT
END:VCALENDAR
