BEGIN:VCALENDAR
VERSION:2.0
PRODID:-//demosphere.net//NONSGML kigkonsult.se iCalcreator 2.22.1//
METHOD:REQUEST
X-WR-TIMEZONE:Europe/Paris
BEGIN:VEVENT
UID:https://pyrenees.demosphere.net/rv/47773
DTSTAMP:20260425T170000Z
DESCRIPTION:plus d'infos sur : https://pyrenees.demosphere.net/rv/47773
DTSTART:20260425T170000Z
DTEND:20260425T180000Z
GEO:+43.41721;+1.173718
LOCATION:Poucharramet\, \nLa Maison de La Terre \n7 rue des Hospitaliers \n
 31370 Poucharramet
SUMMARY:Couscous de la Paix & Sortie de Résidence concert 'El Djara'
URL:https://pyrenees.demosphere.net/rv/47773
END:VEVENT
END:VCALENDAR
