BEGIN:VCALENDAR
VERSION:2.0
PRODID:-//demosphere.net//NONSGML kigkonsult.se iCalcreator 2.22.1//
METHOD:REQUEST
X-WR-TIMEZONE:Europe/Paris
BEGIN:VEVENT
UID:https://pyrenees.demosphere.net/rv/47771
DTSTAMP:20260430T164500Z
DESCRIPTION:plus d'infos sur : https://pyrenees.demosphere.net/rv/47771
DTSTART:20260430T164500Z
DTEND:20260430T174500Z
GEO:+43.108465;+0.718753
LOCATION:St-Gaudens\, \nCinéma le Régent \n16 Rue de l'Indépendance \n31800
  Saint-Gaudens
SUMMARY:Soirée cinéma horreur // Le sifflet - Wedding Nightmare 2
URL:https://pyrenees.demosphere.net/rv/47771
END:VEVENT
END:VCALENDAR
