BEGIN:VCALENDAR
VERSION:2.0
PRODID:-//demosphere.net//NONSGML kigkonsult.se iCalcreator 2.22.1//
METHOD:REQUEST
X-WR-TIMEZONE:Europe/Paris
BEGIN:VEVENT
UID:https://pyrenees.demosphere.net/rv/47767
DTSTAMP:20260425T140000Z
DESCRIPTION:plus d'infos sur : https://pyrenees.demosphere.net/rv/47767
DTSTART:20260425T140000Z
DTEND:20260425T150000Z
GEO:+43.105923;+0.723334
LOCATION:St-Gaudens\, \nSalle du Belvédère \nRue du commandant Bru \n31800 
 St-Gaudens
SUMMARY:Journées d'avril de l'association Memoria y Exilio
URL:https://pyrenees.demosphere.net/rv/47767
END:VEVENT
END:VCALENDAR
