BEGIN:VCALENDAR
VERSION:2.0
PRODID:-//demosphere.net//NONSGML kigkonsult.se iCalcreator 2.22.1//
METHOD:REQUEST
X-WR-TIMEZONE:Europe/Paris
BEGIN:VEVENT
UID:https://pyrenees.demosphere.net/rv/47766
DTSTAMP:20260512T170000Z
DESCRIPTION:plus d'infos sur : https://pyrenees.demosphere.net/rv/47766
DTSTART:20260512T170000Z
DTEND:20260512T180000Z
GEO:+43.108418;+0.719374
LOCATION:St-Gaudens\, \nLibrairie l'Indépendante \n12 rue de l'Indépendance
  \n31800 Saint-Gaudens
SUMMARY:Rencontre philosophique\, librairie L'Indépendante
URL:https://pyrenees.demosphere.net/rv/47766
END:VEVENT
END:VCALENDAR
