BEGIN:VCALENDAR
VERSION:2.0
PRODID:-//demosphere.net//NONSGML kigkonsult.se iCalcreator 2.22.1//
METHOD:REQUEST
X-WR-TIMEZONE:Europe/Paris
BEGIN:VEVENT
UID:https://pyrenees.demosphere.net/rv/47764
DTSTAMP:20260424T180000Z
DESCRIPTION:plus d'infos sur : https://pyrenees.demosphere.net/rv/47764
DTSTART:20260424T180000Z
DTEND:20260424T190000Z
GEO:+43.155874;+0.841857
LOCATION:Sepx\, \nBrasserie la Commingeoise \n31360 Sepx
SUMMARY:Concert avec le groupe Street-Zic (New-Orléan et Jazz)
URL:https://pyrenees.demosphere.net/rv/47764
END:VEVENT
END:VCALENDAR
