BEGIN:VCALENDAR
VERSION:2.0
PRODID:-//demosphere.net//NONSGML kigkonsult.se iCalcreator 2.22.1//
METHOD:REQUEST
X-WR-TIMEZONE:Europe/Paris
BEGIN:VEVENT
UID:https://pyrenees.demosphere.net/rv/47762
DTSTAMP:20260523T190000Z
DESCRIPTION:plus d'infos sur : https://pyrenees.demosphere.net/rv/47762
DTSTART:20260523T190000Z
DTEND:20260523T200000Z
GEO:+43.196937;+0.739256
LOCATION:St-Marcet\, \nVillage \n31800 Saint-Marcet
SUMMARY:Concert gospel - Ma Grand-Mère Était Noire
URL:https://pyrenees.demosphere.net/rv/47762
END:VEVENT
END:VCALENDAR
