BEGIN:VCALENDAR
VERSION:2.0
PRODID:-//demosphere.net//NONSGML kigkonsult.se iCalcreator 2.22.1//
METHOD:REQUEST
X-WR-TIMEZONE:Europe/Paris
BEGIN:VEVENT
UID:https://pyrenees.demosphere.net/rv/47761
DTSTAMP:20260529T183000Z
DESCRIPTION:plus d'infos sur : https://pyrenees.demosphere.net/rv/47761
DTSTART:20260529T183000Z
DTEND:20260529T193000Z
GEO:+43.034584;+0.821363
LOCATION:Estadens\, \nChapelle de Pujos \n31160 Estadens
SUMMARY:Contes du Comminges
URL:https://pyrenees.demosphere.net/rv/47761
END:VEVENT
END:VCALENDAR
