BEGIN:VCALENDAR
VERSION:2.0
PRODID:-//demosphere.net//NONSGML kigkonsult.se iCalcreator 2.22.1//
METHOD:REQUEST
X-WR-TIMEZONE:Europe/Paris
BEGIN:VEVENT
UID:https://pyrenees.demosphere.net/rv/47759
DTSTAMP:20260426T133000Z
DESCRIPTION:plus d'infos sur : https://pyrenees.demosphere.net/rv/47759
DTSTART:20260426T133000Z
DTEND:20260426T143000Z
GEO:+42.913632;+0.658954
LOCATION:Marignac\, \nCafé Sandaran \nRue Jean Jaurès \n31440 Marignac
SUMMARY:Collectif et Ludique atelier musical : rythme\, harmonie et impro E
 NSEMBLE
URL:https://pyrenees.demosphere.net/rv/47759
END:VEVENT
END:VCALENDAR
