BEGIN:VCALENDAR
VERSION:2.0
PRODID:-//demosphere.net//NONSGML kigkonsult.se iCalcreator 2.22.1//
METHOD:REQUEST
X-WR-TIMEZONE:Europe/Paris
BEGIN:VEVENT
UID:https://pyrenees.demosphere.net/rv/47757
DTSTAMP:20260530T183000Z
DESCRIPTION:plus d'infos sur : https://pyrenees.demosphere.net/rv/47757
DTSTART:20260530T183000Z
DTEND:20260530T193000Z
GEO:+43.168801;+0.785771
LOCATION:Latoue\, \nSalle des fêtes \n31800 Latoue
SUMMARY:Bal trad Arredalh - Balenst'Oc
URL:https://pyrenees.demosphere.net/rv/47757
END:VEVENT
END:VCALENDAR
