BEGIN:VCALENDAR
VERSION:2.0
PRODID:-//demosphere.net//NONSGML kigkonsult.se iCalcreator 2.22.1//
METHOD:REQUEST
X-WR-TIMEZONE:Europe/Paris
BEGIN:VEVENT
UID:https://pyrenees.demosphere.net/rv/47754
DTSTAMP:20260425T150000Z
DESCRIPTION:plus d'infos sur : https://pyrenees.demosphere.net/rv/47754
DTSTART:20260425T150000Z
DTEND:20260425T160000Z
GEO:+43.069043;+0.465135
LOCATION:Anères\, \nLa Maison de Marie Louise \n8 Grande Rue \n65150 Anères
SUMMARY:Concert illustré + gouter à la MML
URL:https://pyrenees.demosphere.net/rv/47754
END:VEVENT
END:VCALENDAR
