BEGIN:VCALENDAR
VERSION:2.0
PRODID:-//demosphere.net//NONSGML kigkonsult.se iCalcreator 2.22.1//
METHOD:REQUEST
X-WR-TIMEZONE:Europe/Paris
BEGIN:VEVENT
UID:https://pyrenees.demosphere.net/rv/47753
DTSTAMP:20260621T120000Z
DESCRIPTION:plus d'infos sur : https://pyrenees.demosphere.net/rv/47753
DTSTART:20260621T120000Z
DTEND:20260621T130000Z
GEO:+42.978206;+0.759669
LOCATION:Juzet-d'Izaut\, \nLa Colo du Cagire \n897 route des cols \n31160 J
 uzet D’Izaut
SUMMARY:La Colo du Cagire fête la musique - Guinguette électro - éclectique
URL:https://pyrenees.demosphere.net/rv/47753
END:VEVENT
END:VCALENDAR
