BEGIN:VCALENDAR
VERSION:2.0
PRODID:-//demosphere.net//NONSGML kigkonsult.se iCalcreator 2.22.1//
METHOD:REQUEST
X-WR-TIMEZONE:Europe/Paris
BEGIN:VEVENT
UID:https://pyrenees.demosphere.net/rv/47747
DTSTAMP:20260509T080000Z
DESCRIPTION:plus d'infos sur : https://pyrenees.demosphere.net/rv/47747
DTSTART:20260509T080000Z
DTEND:20260509T090000Z
GEO:+43.213096;+0.881363
LOCATION:Aurignac\, \nDans le Buisson \n2 rue St Michel \n31420 Aurignac
SUMMARY:Exposition de panneaux itinérants 'Nous sommes Sauvages et Comestib
 les'
URL:https://pyrenees.demosphere.net/rv/47747
END:VEVENT
END:VCALENDAR
