BEGIN:VCALENDAR
VERSION:2.0
PRODID:-//demosphere.net//NONSGML kigkonsult.se iCalcreator 2.22.1//
METHOD:REQUEST
X-WR-TIMEZONE:Europe/Paris
BEGIN:VEVENT
UID:https://pyrenees.demosphere.net/rv/47746
DTSTAMP:20260607T080000Z
DESCRIPTION:plus d'infos sur : https://pyrenees.demosphere.net/rv/47746
DTSTART:20260607T080000Z
DTEND:20260607T090000Z
GEO:+43.198982;+1.011133
LOCATION:Martres-Tolosane\, \nAncien Grand Presbytère \n6 place Henri Dulio
 n \n31220 Martres-Tolosane
SUMMARY:Écrire à Martres au grand Presbytère
URL:https://pyrenees.demosphere.net/rv/47746
END:VEVENT
END:VCALENDAR
