BEGIN:VCALENDAR
VERSION:2.0
PRODID:-//demosphere.net//NONSGML kigkonsult.se iCalcreator 2.22.1//
METHOD:REQUEST
X-WR-TIMEZONE:Europe/Paris
BEGIN:VEVENT
UID:https://pyrenees.demosphere.net/rv/47743
DTSTAMP:20260426T080000Z
DESCRIPTION:plus d'infos sur : https://pyrenees.demosphere.net/rv/47743
DTSTART:20260426T080000Z
DTEND:20260426T090000Z
GEO:+42.989073;+0.632976
LOCATION:Galié\, \nSalle communale \n« Grange de Sost » \n31510 Galié
SUMMARY:Expo : Nous sommes Sauvages et Comestibles + Échange de plantes 🌿 e
 t de graines 🌱
URL:https://pyrenees.demosphere.net/rv/47743
END:VEVENT
END:VCALENDAR
