BEGIN:VCALENDAR
VERSION:2.0
PRODID:-//demosphere.net//NONSGML kigkonsult.se iCalcreator 2.22.1//
METHOD:REQUEST
X-WR-TIMEZONE:Europe/Paris
BEGIN:VEVENT
UID:https://pyrenees.demosphere.net/rv/47740
DTSTAMP:20260529T163000Z
DESCRIPTION:plus d'infos sur : https://pyrenees.demosphere.net/rv/47740
DTSTART:20260529T163000Z
DTEND:20260529T173000Z
GEO:+43.133585;+0.974951
LOCATION:Mazères-sur-Salat\, \nPlace des raisins secs \n31260 Mazères-sur-S
 alat
SUMMARY:Le Court-Circuit : épicerie citoyenne - produits locaux - zéro marg
 e
URL:https://pyrenees.demosphere.net/rv/47740
END:VEVENT
END:VCALENDAR
