BEGIN:VCALENDAR
VERSION:2.0
PRODID:-//demosphere.net//NONSGML kigkonsult.se iCalcreator 2.22.1//
METHOD:REQUEST
X-WR-TIMEZONE:Europe/Paris
BEGIN:VEVENT
UID:https://pyrenees.demosphere.net/rv/47735
DTSTAMP:20260606T130000Z
DESCRIPTION:plus d'infos sur : https://pyrenees.demosphere.net/rv/47735
DTSTART:20260606T130000Z
DTEND:20260606T140000Z
GEO:+43.23822;+0.076429
LOCATION:Tarbes\, \nJardin Massey \n65000 Tarbes
SUMMARY:Lecture libre contre la guerre
URL:https://pyrenees.demosphere.net/rv/47735
END:VEVENT
END:VCALENDAR
