BEGIN:VCALENDAR
VERSION:2.0
PRODID:-//demosphere.net//NONSGML kigkonsult.se iCalcreator 2.22.1//
METHOD:REQUEST
X-WR-TIMEZONE:Europe/Paris
BEGIN:VEVENT
UID:https://pyrenees.demosphere.net/rv/47734
DTSTAMP:20260602T163000Z
DESCRIPTION:plus d'infos sur : https://pyrenees.demosphere.net/rv/47734
DTSTART:20260602T163000Z
DTEND:20260602T173000Z
GEO:+43.232176;+0.086339
LOCATION:Tarbes\, \nLibrairie Les beaux jours \n18 avenue de la Marne \n650
 00 Tarbes
SUMMARY:Rencontre littéraire avec Vincent Rissier autour de son livre « Con
 tre l'écologie de guerre »
URL:https://pyrenees.demosphere.net/rv/47734
END:VEVENT
END:VCALENDAR
