BEGIN:VCALENDAR
VERSION:2.0
PRODID:-//demosphere.net//NONSGML kigkonsult.se iCalcreator 2.22.1//
METHOD:REQUEST
X-WR-TIMEZONE:Europe/Paris
BEGIN:VEVENT
UID:https://pyrenees.demosphere.net/rv/47730
DTSTAMP:20260513T163000Z
DESCRIPTION:plus d'infos sur : https://pyrenees.demosphere.net/rv/47730
DTSTART:20260513T163000Z
DTEND:20260513T173000Z
GEO:+43.098016;+0.626926
LOCATION:Clarac\, \nCentre culturel Dominique Manent \n31210 Clarac
SUMMARY:Audition des écoles de musique ADAC
URL:https://pyrenees.demosphere.net/rv/47730
END:VEVENT
END:VCALENDAR
