BEGIN:VCALENDAR
VERSION:2.0
PRODID:-//demosphere.net//NONSGML kigkonsult.se iCalcreator 2.22.1//
METHOD:REQUEST
X-WR-TIMEZONE:Europe/Paris
BEGIN:VEVENT
UID:https://pyrenees.demosphere.net/rv/47678
DTSTAMP:20260525T130000Z
DESCRIPTION:plus d'infos sur : https://pyrenees.demosphere.net/rv/47678
DTSTART:20260525T130000Z
DTEND:20260525T140000Z
GEO:+43.216883;+0.88242
LOCATION:Aurignac\, \nLa Cafetière \nRue Saint-Michel \n31420 Aurignac
SUMMARY:FLE avec Alter'Ego
URL:https://pyrenees.demosphere.net/rv/47678
END:VEVENT
END:VCALENDAR
