BEGIN:VCALENDAR
VERSION:2.0
PRODID:-//demosphere.net//NONSGML kigkonsult.se iCalcreator 2.22.1//
METHOD:REQUEST
X-WR-TIMEZONE:Europe/Paris
BEGIN:VEVENT
UID:https://pyrenees.demosphere.net/rv/47211
DTSTAMP:20260421T120000Z
DESCRIPTION:plus d'infos sur : https://pyrenees.demosphere.net/rv/47211
DTSTART:20260421T120000Z
DTEND:20260421T130000Z
GEO:+43.095396;+0.705143
LOCATION:St-Gaudens\, \nMédiathèque intercommunale de Saint-Gaudens - Cœur 
 Coteaux Comminges \n3 Rue Saint-Jean
SUMMARY:Stage vidéo GRATUIT pour les 11/18 ans Musiques en Images
URL:https://pyrenees.demosphere.net/rv/47211
END:VEVENT
END:VCALENDAR
