BEGIN:VCALENDAR
VERSION:2.0
PRODID:-//demosphere.net//NONSGML kigkonsult.se iCalcreator 2.22.1//
METHOD:REQUEST
X-WR-TIMEZONE:Europe/Paris
BEGIN:VEVENT
UID:https://pyrenees.demosphere.net/rv/47095
DTSTAMP:20260329T140000Z
DESCRIPTION:plus d'infos sur : https://pyrenees.demosphere.net/rv/47095
DTSTART:20260329T140000Z
DTEND:20260329T150000Z
GEO:+42.912767;+0.658353
LOCATION:Marignac\, \nSalle des fêtes \nRue de l'Église \n31440 Marignac
SUMMARY:Théâtre : Je suis contente de te voir
URL:https://pyrenees.demosphere.net/rv/47095
END:VEVENT
END:VCALENDAR
