BEGIN:VCALENDAR
VERSION:2.0
PRODID:-//demosphere.net//NONSGML kigkonsult.se iCalcreator 2.22.1//
METHOD:REQUEST
X-WR-TIMEZONE:Europe/Paris
BEGIN:VEVENT
UID:https://pyrenees.demosphere.net/rv/46988
DTSTAMP:20260606T080000Z
DESCRIPTION:plus d'infos sur : https://pyrenees.demosphere.net/rv/46988
DTSTART:20260606T080000Z
DTEND:20260606T090000Z
GEO:+43.216883;+0.88242
LOCATION:Aurignac\, \nLa Cafetière \nRue Saint-Michel \n31420 Aurignac
SUMMARY:La Cafetière lit ! Club de lecture
URL:https://pyrenees.demosphere.net/rv/46988
END:VEVENT
END:VCALENDAR
